BEGIN:VCALENDAR
VERSION:2.0
PRODID:-//boysandgirlshomes.org//NONSGML kigkonsult.se iCalcreator 2.30.10/
 /
CALSCALE:GREGORIAN
METHOD:PUBLISH
UID:828535a6-aea5-488b-9b0a-b4c0086fe604
X-WR-CALDESC:Annual CMA Benefit Ride for BGHNC
X-WR-RELCALID:7f4c1f1b3d62767fe9f5290e04cdbe71
X-WR-TIMEZONE:America/New_York
BEGIN:VTIMEZONE
TZID:America/New_York
BEGIN:STANDARD
TZNAME:EST
DTSTART:20251102T020000
TZOFFSETFROM:-0400
TZOFFSETTO:-0500
RDATE:20261101T020000
RDATE:20271107T020000
END:STANDARD
BEGIN:DAYLIGHT
TZNAME:EDT
DTSTART:20260308T020000
TZOFFSETFROM:-0500
TZOFFSETTO:-0400
RDATE:20270314T020000
RDATE:20280312T020000
END:DAYLIGHT
END:VTIMEZONE
BEGIN:VEVENT
UID:9bbec889-2705-4269-a4b7-7f7ac348ac38
DTSTAMP:20260420T022102Z
DESCRIPTION:Annual CMA Benefit Ride for BGHNC
DTSTART;TZID=America/New_York:20260926T110000
DTEND;TZID=America/New_York:20260926T140000
LOCATION:400 Flemington Drive\, Lake Waccamaw\, NC 28450 US
SUMMARY:CMA Benefit Ride
END:VEVENT
END:VCALENDAR
